BEGIN:VCALENDAR
VERSION:2.0
PRODID:DPCALENDAR
CALSCALE:GREGORIAN
X-WR-TIMEZONE:UTC
BEGIN:VEVENT
DTSTART;VALUE=DATE:20260503
DTEND;VALUE=DATE:20260504
UID:542ebe9e732b8b69ebbdb03955045624
SUMMARY:Święto Konstytucji Trzeciego Maja
DTSTAMP:20260420T202656Z
DESCRIPTION:Święto państwowe
X-ALT-DESC;FMTTYPE=text/html:Święto państwowe
X-ACCESS:1
X-MODIFIED:20260420T202656Z
X-HITS:0
X-URL:
X-COLOR:
END:VEVENT
END:VCALENDAR