BEGIN:VCALENDAR
VERSION:2.0
PRODID:DPCALENDAR
CALSCALE:GREGORIAN
X-WR-TIMEZONE:UTC
BEGIN:VEVENT
DTSTART;VALUE=DATE:20260509
DTEND;VALUE=DATE:20260510
UID:916a34d62fb4590b18d093bd02bf9004
SUMMARY:Sobota z egzaminem z matematyki
DTSTAMP:20260420T202214Z
DESCRIPTION:
X-ALT-DESC;FMTTYPE=text/html:
X-ACCESS:1
X-MODIFIED:20260420T202214Z
X-HITS:0
X-URL:
X-COLOR:
END:VEVENT
END:VCALENDAR